Package: netresponse Version: 1.69.0 Command: F:\biocbuild\bbs-3.22-bioc\R\bin\R.exe CMD check --no-multiarch --install=check:netresponse.install-out.txt --library=F:\biocbuild\bbs-3.22-bioc\R\library --no-vignettes --timings netresponse_1.69.0.tar.gz StartedAt: 2025-07-02 04:32:17 -0400 (Wed, 02 Jul 2025) EndedAt: 2025-07-02 04:34:08 -0400 (Wed, 02 Jul 2025) EllapsedTime: 110.7 seconds RetCode: 0 Status: OK CheckDir: netresponse.Rcheck Warnings: 0