Package: nethet Version: 1.41.0 Command: F:\biocbuild\bbs-3.22-bioc\R\bin\R.exe CMD INSTALL nethet StartedAt: 2025-07-11 17:05:26 -0400 (Fri, 11 Jul 2025) EndedAt: 2025-07-11 17:06:19 -0400 (Fri, 11 Jul 2025) EllapsedTime: 53.0 seconds RetCode: 0 Status: OK