Package: nethet Version: 1.41.0 Command: chmod a+r nethet -R && F:\biocbuild\bbs-3.22-bioc\R\bin\R.exe CMD build --keep-empty-dirs --no-resave-data nethet StartedAt: 2025-07-11 20:44:35 -0400 (Fri, 11 Jul 2025) EndedAt: 2025-07-11 20:50:00 -0400 (Fri, 11 Jul 2025) EllapsedTime: 324.1 seconds RetCode: 0 Status: OK PackageFile: nethet_1.41.0.tar.gz PackageFileSize: 698.2 KiB