############################################################################## ############################################################################## ### ### Running command: ### ### rm -rf netZooR.buildbin-libdir && mkdir netZooR.buildbin-libdir && F:\biocbuild\bbs-3.22-bioc\R\bin\R.exe CMD INSTALL --build --library=netZooR.buildbin-libdir netZooR_1.13.18.tar.gz ### ############################################################################## ############################################################################## * installing *source* package 'netZooR' ... ** this is package 'netZooR' version '1.13.18' ** using staged installation ** R ** data ** inst ** byte-compile and prepare package for lazy loading Warning in system("wget https://netzoo.s3.us-east-2.amazonaws.com/netZooR/unittest_datasets/yarn/skin.rdata") : 'wget' not found /usr/bin/mv: cannot stat 'skin.rdata': No such file or directory Warning in system("wget https://netzoo.s3.us-east-2.amazonaws.com/netZooR/unittest_datasets/yarn/bladder.rdata") : 'wget' not found /usr/bin/mv: cannot stat 'bladder.rdata': No such file or directory ** help *** installing help indices ** building package indices ** installing vignettes ** testing if installed package can be loaded from temporary location ** testing if installed package can be loaded from final location ** testing if installed package keeps a record of temporary installation path * MD5 sums packaged installation of 'netZooR' as netZooR_1.13.18.zip * DONE (netZooR)