Package: netSmooth Version: 1.29.0 Command: /home/biocbuild/R/R/bin/R CMD check --install=check:netSmooth.install-out.txt --library=/home/biocbuild/R/R/site-library --no-vignettes --timings netSmooth_1.29.0.tar.gz StartedAt: 2025-07-15 10:03:36 -0000 (Tue, 15 Jul 2025) EndedAt: 2025-07-15 10:11:55 -0000 (Tue, 15 Jul 2025) EllapsedTime: 498.9 seconds RetCode: 0 Status: OK CheckDir: netSmooth.Rcheck Warnings: 0