Package: nempi Version: 1.17.0 Command: /Library/Frameworks/R.framework/Resources/bin/R CMD INSTALL nempi StartedAt: 2025-07-07 15:08:15 -0400 (Mon, 07 Jul 2025) EndedAt: 2025-07-07 15:08:21 -0400 (Mon, 07 Jul 2025) EllapsedTime: 6.4 seconds RetCode: 0 Status: OK