Package: nearBynding Version: 1.19.1 Command: /home/biocbuild/R/R/bin/R CMD INSTALL nearBynding StartedAt: 2025-07-24 22:08:09 -0000 (Thu, 24 Jul 2025) EndedAt: 2025-07-24 22:09:00 -0000 (Thu, 24 Jul 2025) EllapsedTime: 50.6 seconds RetCode: 0 Status: OK