Package: nearBynding Version: 1.19.1 Command: /home/biocbuild/R/R/bin/R CMD build --keep-empty-dirs --no-resave-data nearBynding StartedAt: 2025-07-25 02:25:50 -0000 (Fri, 25 Jul 2025) EndedAt: 2025-07-25 02:27:31 -0000 (Fri, 25 Jul 2025) EllapsedTime: 101.1 seconds RetCode: 0 Status: OK PackageFile: nearBynding_1.19.1.tar.gz PackageFileSize: 3.332 MiB