Package: nearBynding Version: 1.19.0 Command: /Library/Frameworks/R.framework/Resources/bin/R CMD check --install=check:nearBynding.install-out.txt --library=/Library/Frameworks/R.framework/Resources/library --no-vignettes --timings nearBynding_1.19.0.tar.gz StartedAt: 2025-07-21 22:20:29 -0400 (Mon, 21 Jul 2025) EndedAt: 2025-07-21 22:25:58 -0400 (Mon, 21 Jul 2025) EllapsedTime: 328.7 seconds RetCode: 0 Status: OK CheckDir: nearBynding.Rcheck Warnings: 0