Package: nearBynding Version: 1.19.0 Command: /Library/Frameworks/R.framework/Resources/bin/R CMD build --keep-empty-dirs --no-resave-data nearBynding StartedAt: 2025-07-20 17:52:56 -0400 (Sun, 20 Jul 2025) EndedAt: 2025-07-20 17:54:27 -0400 (Sun, 20 Jul 2025) EllapsedTime: 91.4 seconds RetCode: 0 Status: OK PackageFile: nearBynding_1.19.0.tar.gz PackageFileSize: 3.342 MiB