Package: ncdfFlow Version: 2.55.0 Command: F:\biocbuild\bbs-3.22-bioc\R\bin\R.exe CMD INSTALL ncdfFlow StartedAt: 2025-07-01 15:36:05 -0400 (Tue, 01 Jul 2025) EndedAt: 2025-07-01 15:38:26 -0400 (Tue, 01 Jul 2025) EllapsedTime: 141.0 seconds RetCode: 0 Status: OK