Package: ncdfFlow Version: 2.55.0 Command: rm -rf ncdfFlow.buildbin-libdir && mkdir ncdfFlow.buildbin-libdir && F:\biocbuild\bbs-3.22-bioc\R\bin\R.exe CMD INSTALL --build --library=ncdfFlow.buildbin-libdir ncdfFlow_2.55.0.tar.gz StartedAt: 2025-07-02 09:24:45 -0400 (Wed, 02 Jul 2025) EndedAt: 2025-07-02 09:25:43 -0400 (Wed, 02 Jul 2025) EllapsedTime: 57.9 seconds RetCode: 0 Status: OK PackageFile: ncdfFlow_2.55.0.zip PackageFileSize: 1.896 MiB