Package: ncGTW Version: 1.23.0 Command: rm -rf ncGTW.buildbin-libdir && mkdir ncGTW.buildbin-libdir && /Users/biocbuild/BBS/utils/build-universal.sh ncGTW_1.23.0.tar.gz /Library/Frameworks/R.framework/Resources/bin/R ncGTW.buildbin-libdir StartedAt: 2025-07-25 01:43:00 -0400 (Fri, 25 Jul 2025) EndedAt: 2025-07-25 01:44:28 -0400 (Fri, 25 Jul 2025) EllapsedTime: 88.3 seconds RetCode: 0 Status: OK PackageFile: ncGTW_1.23.0.tgz PackageFileSize: 2.101 MiB