Package: ncGTW Version: 1.23.0 Command: /Library/Frameworks/R.framework/Resources/bin/R CMD INSTALL ncGTW StartedAt: 2025-07-24 15:33:05 -0400 (Thu, 24 Jul 2025) EndedAt: 2025-07-24 15:33:30 -0400 (Thu, 24 Jul 2025) EllapsedTime: 25.2 seconds RetCode: 0 Status: OK