Package: ncGTW Version: 1.23.0 Command: /Library/Frameworks/R.framework/Resources/bin/R CMD build --keep-empty-dirs --no-resave-data ncGTW StartedAt: 2025-07-24 17:13:31 -0400 (Thu, 24 Jul 2025) EndedAt: 2025-07-24 17:14:53 -0400 (Thu, 24 Jul 2025) EllapsedTime: 81.9 seconds RetCode: 0 Status: OK PackageFile: ncGTW_1.23.0.tar.gz PackageFileSize: 2.304 MiB