Package: ncGTW Version: 1.23.0 Maintainer: Chiung-Ting Wu MaintainerEmail: ctwu at vt.edu git_url: https://git.bioconductor.org/packages/ncGTW git_branch: devel git_last_commit: ff6ba3e git_last_commit_date: 2025-04-15 11:48:18 -0400 (Tue, 15 Apr 2025)