Package: musicatk Version: 2.3.0 Command: /home/biocbuild/R/R/bin/R CMD build --keep-empty-dirs --no-resave-data musicatk StartedAt: 2025-06-27 01:15:42 -0000 (Fri, 27 Jun 2025) EndedAt: 2025-06-27 01:15:44 -0000 (Fri, 27 Jun 2025) EllapsedTime: 2.0 seconds RetCode: 1 Status: ERROR PackageFile: None PackageFileSize: NA