############################################################################## ############################################################################## ### ### Running command: ### ### /home/biocbuild/R/R/bin/R CMD build --keep-empty-dirs --no-resave-data musicatk ### ############################################################################## ############################################################################## * checking for file ‘musicatk/DESCRIPTION’ ... OK * preparing ‘musicatk’: * checking DESCRIPTION meta-information ... OK * installing the package to build vignettes ----------------------------------- ERROR: dependency ‘BSgenome.Mmusculus.UCSC.mm10’ is not available for package ‘musicatk’ Perhaps try a variation of: install.packages('BSgenome.Mmusculus.UCSC.mm10') * removing ‘/home/biocbuild/tmp/RtmpTyN5Uu/Rinst1fd34c659239e5/musicatk’ ----------------------------------- ERROR: package installation failed