Package: musicatk Version: 2.3.0 Command: F:\biocbuild\bbs-3.22-bioc\R\bin\R.exe CMD INSTALL musicatk StartedAt: 2025-07-01 17:12:00 -0400 (Tue, 01 Jul 2025) EndedAt: 2025-07-01 17:12:01 -0400 (Tue, 01 Jul 2025) EllapsedTime: 0.5 seconds RetCode: 1 Status: ERROR