Package: musicatk Version: 2.3.0 Command: F:\biocbuild\bbs-3.22-bioc\R\bin\R.exe CMD check --no-multiarch --install=check:musicatk.install-out.txt --library=F:\biocbuild\bbs-3.22-bioc\R\library --no-vignettes --timings musicatk_2.3.0.tar.gz StartedAt: 2025-06-19 04:36:14 -0400 (Thu, 19 Jun 2025) EndedAt: 2025-06-19 04:49:45 -0400 (Thu, 19 Jun 2025) EllapsedTime: 811.0 seconds RetCode: 0 Status: OK CheckDir: musicatk.Rcheck Warnings: 0