############################################################################## ############################################################################## ### ### Running command: ### ### chmod a+r musicatk -R && F:\biocbuild\bbs-3.22-bioc\R\bin\R.exe CMD build --keep-empty-dirs --no-resave-data musicatk ### ############################################################################## ############################################################################## * checking for file 'musicatk/DESCRIPTION' ... OK * preparing 'musicatk': * checking DESCRIPTION meta-information ... OK * installing the package to build vignettes ----------------------------------- ERROR: dependency 'conclust' is not available for package 'musicatk' Perhaps try a variation of: install.packages('conclust') * removing 'F:/biocbuild/bbs-3.22-bioc/tmpdir/RtmpIJw7ep/Rinst1973c46552f64/musicatk' ----------------------------------- ERROR: package installation failed