Package: musicatk Version: 2.3.0 Command: /home/biocbuild/bbs-3.22-bioc/R/bin/R CMD check --install=check:musicatk.install-out.txt --library=/home/biocbuild/bbs-3.22-bioc/R/site-library --timings musicatk_2.3.0.tar.gz StartedAt: 2025-06-19 01:27:27 -0400 (Thu, 19 Jun 2025) EndedAt: 2025-06-19 01:45:06 -0400 (Thu, 19 Jun 2025) EllapsedTime: 1059.2 seconds RetCode: 0 Status: OK CheckDir: musicatk.Rcheck Warnings: 0