Package: multtest Version: 2.65.0 Command: /home/biocbuild/R/R/bin/R CMD INSTALL multtest StartedAt: 2025-07-17 20:21:57 -0000 (Thu, 17 Jul 2025) EndedAt: 2025-07-17 20:22:13 -0000 (Thu, 17 Jul 2025) EllapsedTime: 16.5 seconds RetCode: 0 Status: OK