Package: multtest Version: 2.65.0 Command: /home/biocbuild/R/R/bin/R CMD check --install=check:multtest.install-out.txt --library=/home/biocbuild/R/R/site-library --no-vignettes --timings multtest_2.65.0.tar.gz StartedAt: 2025-07-22 09:42:38 -0000 (Tue, 22 Jul 2025) EndedAt: 2025-07-22 09:44:00 -0000 (Tue, 22 Jul 2025) EllapsedTime: 81.1 seconds RetCode: 0 Status: WARNINGS CheckDir: multtest.Rcheck Warnings: 3