Package: multistateQTL Version: 2.1.1 Command: F:\biocbuild\bbs-3.22-bioc\R\bin\R.exe CMD INSTALL multistateQTL StartedAt: 2025-07-24 16:31:15 -0400 (Thu, 24 Jul 2025) EndedAt: 2025-07-24 16:32:18 -0400 (Thu, 24 Jul 2025) EllapsedTime: 63.0 seconds RetCode: 0 Status: OK