Package: multistateQTL Version: 2.1.1 Command: chmod a+r multistateQTL -R && F:\biocbuild\bbs-3.22-bioc\R\bin\R.exe CMD build --keep-empty-dirs --no-resave-data multistateQTL StartedAt: 2025-07-24 20:53:59 -0400 (Thu, 24 Jul 2025) EndedAt: 2025-07-24 20:55:39 -0400 (Thu, 24 Jul 2025) EllapsedTime: 100.5 seconds RetCode: 0 Status: OK PackageFile: multistateQTL_2.1.1.tar.gz PackageFileSize: 523.7 KiB