Package: multistateQTL Version: 2.1.0 Command: /home/biocbuild/bbs-3.22-bioc/R/bin/R CMD build --keep-empty-dirs --no-resave-data --md5 multistateQTL StartedAt: 2025-07-11 18:14:45 -0400 (Fri, 11 Jul 2025) EndedAt: 2025-07-11 18:15:42 -0400 (Fri, 11 Jul 2025) EllapsedTime: 57.1 seconds RetCode: 0 Status: OK PackageFile: multistateQTL_2.1.0.tar.gz PackageFileSize: 865.8 KiB