Package: multiscan Version: 1.69.0 Command: F:\biocbuild\bbs-3.22-bioc\R\bin\R.exe CMD INSTALL multiscan StartedAt: 2025-07-24 15:52:05 -0400 (Thu, 24 Jul 2025) EndedAt: 2025-07-24 15:52:13 -0400 (Thu, 24 Jul 2025) EllapsedTime: 8.1 seconds RetCode: 0 Status: OK