Package: multiscan Version: 1.69.0 Command: chmod a+r multiscan -R && F:\biocbuild\bbs-3.22-bioc\R\bin\R.exe CMD build --keep-empty-dirs --no-resave-data multiscan StartedAt: 2025-07-24 20:53:52 -0400 (Thu, 24 Jul 2025) EndedAt: 2025-07-24 20:54:12 -0400 (Thu, 24 Jul 2025) EllapsedTime: 19.5 seconds RetCode: 0 Status: OK PackageFile: multiscan_1.69.0.tar.gz PackageFileSize: 531.9 KiB