Package: multiscan Version: 1.69.0 Command: /Library/Frameworks/R.framework/Resources/bin/R CMD INSTALL multiscan StartedAt: 2025-07-22 15:08:01 -0400 (Tue, 22 Jul 2025) EndedAt: 2025-07-22 15:08:04 -0400 (Tue, 22 Jul 2025) EllapsedTime: 2.2 seconds RetCode: 0 Status: OK