Package: multiscan Version: 1.69.0 Command: /Library/Frameworks/R.framework/Resources/bin/R CMD build --keep-empty-dirs --no-resave-data multiscan StartedAt: 2025-07-22 17:02:56 -0400 (Tue, 22 Jul 2025) EndedAt: 2025-07-22 17:03:02 -0400 (Tue, 22 Jul 2025) EllapsedTime: 6.1 seconds RetCode: 0 Status: OK PackageFile: multiscan_1.69.0.tar.gz PackageFileSize: 750.6 KiB