Package: multiscan Version: 1.69.0 Command: rm -rf multiscan.buildbin-libdir && mkdir multiscan.buildbin-libdir && /Users/biocbuild/BBS/utils/build-universal.sh multiscan_1.69.0.tar.gz /Library/Frameworks/R.framework/Resources/bin/R multiscan.buildbin-libdir StartedAt: 2025-07-22 22:32:47 -0400 (Tue, 22 Jul 2025) EndedAt: 2025-07-22 22:32:50 -0400 (Tue, 22 Jul 2025) EllapsedTime: 3.0 seconds RetCode: 0 Status: OK PackageFile: multiscan_1.69.0.tgz PackageFileSize: 778.4 KiB