Package: multicrispr Version: 1.19.0 Command: F:\biocbuild\bbs-3.22-bioc\R\bin\R.exe CMD check --no-multiarch --install=check:multicrispr.install-out.txt --library=F:\biocbuild\bbs-3.22-bioc\R\library --no-vignettes --timings multicrispr_1.19.0.tar.gz StartedAt: 2025-07-04 04:30:17 -0400 (Fri, 04 Jul 2025) EndedAt: 2025-07-04 04:38:14 -0400 (Fri, 04 Jul 2025) EllapsedTime: 477.0 seconds RetCode: 0 Status: WARNINGS CheckDir: multicrispr.Rcheck Warnings: 1