Package: multicrispr Version: 1.19.0 Command: rm -rf multicrispr.buildbin-libdir && mkdir multicrispr.buildbin-libdir && F:\biocbuild\bbs-3.22-bioc\R\bin\R.exe CMD INSTALL --build --library=multicrispr.buildbin-libdir multicrispr_1.19.0.tar.gz StartedAt: 2025-07-03 09:34:38 -0400 (Thu, 03 Jul 2025) EndedAt: 2025-07-03 09:35:44 -0400 (Thu, 03 Jul 2025) EllapsedTime: 66.6 seconds RetCode: 0 Status: OK PackageFile: multicrispr_1.19.0.zip PackageFileSize: 2.135 MiB