Package: multiWGCNA Version: 1.7.0 Command: /Library/Frameworks/R.framework/Resources/bin/R CMD build --keep-empty-dirs --no-resave-data multiWGCNA StartedAt: 2025-07-11 17:47:45 -0400 (Fri, 11 Jul 2025) EndedAt: 2025-07-11 17:52:16 -0400 (Fri, 11 Jul 2025) EllapsedTime: 270.8 seconds RetCode: 0 Status: OK PackageFile: multiWGCNA_1.7.0.tar.gz PackageFileSize: 3.576 MiB