Package: multiWGCNA Version: 1.7.0 Command: rm -rf multiWGCNA.buildbin-libdir && mkdir multiWGCNA.buildbin-libdir && /Users/biocbuild/BBS/utils/build-universal.sh multiWGCNA_1.7.0.tar.gz /Library/Frameworks/R.framework/Resources/bin/R multiWGCNA.buildbin-libdir StartedAt: 2025-07-12 01:08:16 -0400 (Sat, 12 Jul 2025) EndedAt: 2025-07-12 01:09:04 -0400 (Sat, 12 Jul 2025) EllapsedTime: 48.4 seconds RetCode: 0 Status: OK PackageFile: multiWGCNA_1.7.0.tgz PackageFileSize: 3.927 MiB