Package: multiWGCNA Version: 1.7.0 Command: /Library/Frameworks/R.framework/Resources/bin/R CMD build --keep-empty-dirs --no-resave-data multiWGCNA StartedAt: 2025-10-05 17:12:36 -0400 (Sun, 05 Oct 2025) EndedAt: 2025-10-05 17:14:32 -0400 (Sun, 05 Oct 2025) EllapsedTime: 115.3 seconds RetCode: 0 Status: OK PackageFile: multiWGCNA_1.7.0.tar.gz PackageFileSize: 3.601 MiB