Package: multiWGCNA Version: 1.7.0 Command: rm -rf multiWGCNA.buildbin-libdir && mkdir multiWGCNA.buildbin-libdir && /Users/biocbuild/BBS/utils/build-universal.sh multiWGCNA_1.7.0.tar.gz /Library/Frameworks/R.framework/Resources/bin/R multiWGCNA.buildbin-libdir StartedAt: 2025-10-05 22:51:44 -0400 (Sun, 05 Oct 2025) EndedAt: 2025-10-05 22:51:59 -0400 (Sun, 05 Oct 2025) EllapsedTime: 15.3 seconds RetCode: 0 Status: OK PackageFile: multiWGCNA_1.7.0.tgz PackageFileSize: 3.956 MiB