Package: multiClust Version: 1.39.0 Command: rm -rf multiClust.buildbin-libdir && mkdir multiClust.buildbin-libdir && F:\biocbuild\bbs-3.22-bioc\R\bin\R.exe CMD INSTALL --build --library=multiClust.buildbin-libdir multiClust_1.39.0.tar.gz StartedAt: 2025-07-12 09:22:32 -0400 (Sat, 12 Jul 2025) EndedAt: 2025-07-12 09:22:58 -0400 (Sat, 12 Jul 2025) EllapsedTime: 26.8 seconds RetCode: 0 Status: OK PackageFile: multiClust_1.39.0.zip PackageFileSize: 2.984 MiB