Package: mspms Version: 1.1.0 Command: /home/biocbuild/R/R/bin/R CMD check --install=check:mspms.install-out.txt --library=/home/biocbuild/R/R/site-library --no-vignettes --timings mspms_1.1.0.tar.gz StartedAt: 2025-10-17 11:24:34 -0000 (Fri, 17 Oct 2025) EndedAt: 2025-10-17 11:39:40 -0000 (Fri, 17 Oct 2025) EllapsedTime: 905.9 seconds RetCode: 0 Status: OK CheckDir: mspms.Rcheck Warnings: 0