Package: mspms Version: 1.1.0 Command: /Library/Frameworks/R.framework/Resources/bin/R CMD INSTALL mspms StartedAt: 2025-10-03 15:19:24 -0400 (Fri, 03 Oct 2025) EndedAt: 2025-10-03 15:19:26 -0400 (Fri, 03 Oct 2025) EllapsedTime: 2.1 seconds RetCode: 0 Status: OK