Package: mspms Version: 1.1.0 Command: /Library/Frameworks/R.framework/Resources/bin/R CMD build --keep-empty-dirs --no-resave-data mspms StartedAt: 2025-10-03 17:08:01 -0400 (Fri, 03 Oct 2025) EndedAt: 2025-10-03 17:08:50 -0400 (Fri, 03 Oct 2025) EllapsedTime: 49.5 seconds RetCode: 0 Status: OK PackageFile: mspms_1.1.0.tar.gz PackageFileSize: 3.45 MiB