Package: mspms Version: 1.1.0 Command: rm -rf mspms.buildbin-libdir && mkdir mspms.buildbin-libdir && /Users/biocbuild/BBS/utils/build-universal.sh mspms_1.1.0.tar.gz /Library/Frameworks/R.framework/Resources/bin/R mspms.buildbin-libdir StartedAt: 2025-10-03 22:47:35 -0400 (Fri, 03 Oct 2025) EndedAt: 2025-10-03 22:47:38 -0400 (Fri, 03 Oct 2025) EllapsedTime: 3.0 seconds RetCode: 0 Status: OK PackageFile: mspms_1.1.0.tgz PackageFileSize: 3.697 MiB