Package: msmsEDA Version: 1.47.0 Command: /home/biocbuild/R/R/bin/R CMD check --install=check:msmsEDA.install-out.txt --library=/home/biocbuild/R/R/site-library --no-vignettes --timings msmsEDA_1.47.0.tar.gz StartedAt: 2025-07-11 10:21:04 -0000 (Fri, 11 Jul 2025) EndedAt: 2025-07-11 10:24:05 -0000 (Fri, 11 Jul 2025) EllapsedTime: 181.1 seconds RetCode: 0 Status: OK CheckDir: msmsEDA.Rcheck Warnings: 0