Package: msmsEDA Version: 1.47.0 Command: /home/biocbuild/R/R/bin/R CMD build --keep-empty-dirs --no-resave-data msmsEDA StartedAt: 2025-07-11 02:28:45 -0000 (Fri, 11 Jul 2025) EndedAt: 2025-07-11 02:29:50 -0000 (Fri, 11 Jul 2025) EllapsedTime: 65.0 seconds RetCode: 0 Status: OK PackageFile: msmsEDA_1.47.0.tar.gz PackageFileSize: 432.7 KiB