Package: msmsEDA Version: 1.47.0 Command: /Library/Frameworks/R.framework/Resources/bin/R CMD check --install=check:msmsEDA.install-out.txt --library=/Library/Frameworks/R.framework/Resources/library --no-vignettes --timings msmsEDA_1.47.0.tar.gz StartedAt: 2025-07-15 22:16:35 -0400 (Tue, 15 Jul 2025) EndedAt: 2025-07-15 22:19:19 -0400 (Tue, 15 Jul 2025) EllapsedTime: 164.0 seconds RetCode: 0 Status: OK CheckDir: msmsEDA.Rcheck Warnings: 0