Package: mslp Version: 1.11.0 Command: F:\biocbuild\bbs-3.22-bioc\R\bin\R.exe CMD check --no-multiarch --install=check:mslp.install-out.txt --library=F:\biocbuild\bbs-3.22-bioc\R\library --no-vignettes --timings mslp_1.11.0.tar.gz StartedAt: 2025-07-23 04:26:34 -0400 (Wed, 23 Jul 2025) EndedAt: 2025-07-23 04:28:00 -0400 (Wed, 23 Jul 2025) EllapsedTime: 86.0 seconds RetCode: 0 Status: OK CheckDir: mslp.Rcheck Warnings: 0