Package: mslp Version: 1.11.0 Command: chmod a+r mslp -R && F:\biocbuild\bbs-3.22-bioc\R\bin\R.exe CMD build --keep-empty-dirs --no-resave-data mslp StartedAt: 2025-07-21 20:38:03 -0400 (Mon, 21 Jul 2025) EndedAt: 2025-07-21 20:38:49 -0400 (Mon, 21 Jul 2025) EllapsedTime: 45.7 seconds RetCode: 0 Status: OK PackageFile: mslp_1.11.0.tar.gz PackageFileSize: 407.6 KiB