Package: mslp Version: 1.11.0 Command: rm -rf mslp.buildbin-libdir && mkdir mslp.buildbin-libdir && /Users/biocbuild/BBS/utils/build-universal.sh mslp_1.11.0.tar.gz /Library/Frameworks/R.framework/Resources/bin/R mslp.buildbin-libdir StartedAt: 2025-10-06 02:12:30 -0400 (Mon, 06 Oct 2025) EndedAt: 2025-10-06 02:12:37 -0400 (Mon, 06 Oct 2025) EllapsedTime: 6.9 seconds RetCode: 0 Status: OK PackageFile: mslp_1.11.0.tgz PackageFileSize: 453.2 KiB