Package: msa Version: 1.41.0 Command: /home/biocbuild/R/R/bin/R CMD check --install=check:msa.install-out.txt --library=/home/biocbuild/R/R/site-library --no-vignettes --timings msa_1.41.0.tar.gz StartedAt: 2025-07-11 10:17:09 -0000 (Fri, 11 Jul 2025) EndedAt: 2025-07-11 10:18:49 -0000 (Fri, 11 Jul 2025) EllapsedTime: 100.0 seconds RetCode: 0 Status: WARNINGS CheckDir: msa.Rcheck Warnings: 2